BEGIN:VCALENDAR
PRODID:-//eluceo/ical//2.0/EN
VERSION:2.0
CALSCALE:GREGORIAN
BEGIN:VEVENT
UID:9e631d4ee3389e899dd3cbde7c706e06
DTSTAMP:20260422T100052Z
SUMMARY:BT Youth Ed Program
DESCRIPTION:Jewish Federation of Greater Naples\nCommunity Calendar\nhttps:
 //jewishnaples.org/calendar/calendar894\n\n&nbsp
DTSTART;TZID=America/New_York:20150325T163000
DTEND;TZID=America/New_York:20150325T163000
END:VEVENT
END:VCALENDAR
