BEGIN:VCALENDAR
PRODID:-//eluceo/ical//2.0/EN
VERSION:2.0
CALSCALE:GREGORIAN
BEGIN:VEVENT
UID:47afc645086b36dab14cab3a632422a8
DTSTAMP:20260423T060335Z
SUMMARY:BT Youth Ed Program
DESCRIPTION:Jewish Federation of Greater Naples\nCommunity Calendar\nhttps:
 //jewishnaples.org/calendar/calendar893\n\n&nbsp
DTSTART;TZID=America/New_York:20150318T163000
DTEND;TZID=America/New_York:20150318T163000
END:VEVENT
END:VCALENDAR
