BEGIN:VCALENDAR
PRODID:-//eluceo/ical//2.0/EN
VERSION:2.0
CALSCALE:GREGORIAN
BEGIN:VEVENT
UID:8f3ac65b86066bd6fe40ad28d8f56c47
DTSTAMP:20260420T033834Z
SUMMARY:BT Youth Ed Program
DESCRIPTION:Jewish Federation of Greater Naples\nCommunity Calendar\nhttps:
 //jewishnaples.org/calendar/calendar887\n\n&nbsp
DTSTART;TZID=America/New_York:20150204T163000
DTEND;TZID=America/New_York:20150204T163000
END:VEVENT
END:VCALENDAR
