BEGIN:VCALENDAR
PRODID:-//eluceo/ical//2.0/EN
VERSION:2.0
CALSCALE:GREGORIAN
BEGIN:VEVENT
UID:8e5166195c8108ffb4d3a1a64704d007
DTSTAMP:20260423T113314Z
SUMMARY:BT Youth Ed Program
DESCRIPTION:Jewish Federation of Greater Naples\nCommunity Calendar\nhttps:
 //jewishnaples.org/calendar/calendar882\n\n&nbsp
DTSTART;TZID=America/New_York:20141231T163000
DTEND;TZID=America/New_York:20141231T163000
END:VEVENT
END:VCALENDAR
