BEGIN:VCALENDAR
PRODID:-//eluceo/ical//2.0/EN
VERSION:2.0
CALSCALE:GREGORIAN
BEGIN:VEVENT
UID:31aa09d64784ab9b97d7eb51fffada73
DTSTAMP:20260422T193110Z
SUMMARY:BT Youth Ed Program
DESCRIPTION:Jewish Federation of Greater Naples\nCommunity Calendar\nhttps:
 //jewishnaples.org/calendar/calendar880\n\n&nbsp
DTSTART;TZID=America/New_York:20141217T163000
DTEND;TZID=America/New_York:20141217T163000
END:VEVENT
END:VCALENDAR
