BEGIN:VCALENDAR
PRODID:-//eluceo/ical//2.0/EN
VERSION:2.0
CALSCALE:GREGORIAN
BEGIN:VEVENT
UID:a086714f966d1c385b8247cbf9d284cc
DTSTAMP:20260422T083838Z
SUMMARY:JCMI Board Mtg
DESCRIPTION:Jewish Federation of Greater Naples\nCommunity Calendar\nhttps:
 //jewishnaples.org/calendar/calendar88\n\n&nbsp
DTSTART;TZID=America/New_York:20140918T190000
DTEND;TZID=America/New_York:20140918T190000
END:VEVENT
END:VCALENDAR
