BEGIN:VCALENDAR
PRODID:-//eluceo/ical//2.0/EN
VERSION:2.0
CALSCALE:GREGORIAN
BEGIN:VEVENT
UID:1a883b9a4b3f929565939dc2f8096141
DTSTAMP:20260422T134243Z
SUMMARY:BT Youth Ed Program
DESCRIPTION:Jewish Federation of Greater Naples\nCommunity Calendar\nhttps:
 //jewishnaples.org/calendar/calendar878\n\n&nbsp
DTSTART;TZID=America/New_York:20141203T163000
DTEND;TZID=America/New_York:20141203T163000
END:VEVENT
END:VCALENDAR
