BEGIN:VCALENDAR
PRODID:-//eluceo/ical//2.0/EN
VERSION:2.0
CALSCALE:GREGORIAN
BEGIN:VEVENT
UID:d4f75ab0bac9d982a057995455204c4d
DTSTAMP:20260424T053634Z
SUMMARY:BT Youth Ed Program
DESCRIPTION:Jewish Federation of Greater Naples\nCommunity Calendar\nhttps:
 //jewishnaples.org/calendar/calendar874\n\n&nbsp
DTSTART;TZID=America/New_York:20141105T163000
DTEND;TZID=America/New_York:20141105T163000
END:VEVENT
END:VCALENDAR
