BEGIN:VCALENDAR
PRODID:-//eluceo/ical//2.0/EN
VERSION:2.0
CALSCALE:GREGORIAN
BEGIN:VEVENT
UID:878b67dae87dd692b41c38f632703cb3
DTSTAMP:20260424T090410Z
SUMMARY:BT Youth Ed Program
DESCRIPTION:Jewish Federation of Greater Naples\nCommunity Calendar\nhttps:
 //jewishnaples.org/calendar/calendar872\n\n&nbsp
DTSTART;TZID=America/New_York:20141022T163000
DTEND;TZID=America/New_York:20141022T163000
END:VEVENT
END:VCALENDAR
