BEGIN:VCALENDAR
PRODID:-//eluceo/ical//2.0/EN
VERSION:2.0
CALSCALE:GREGORIAN
BEGIN:VEVENT
UID:e0f0539566a6e9e8dd8c2dbe668b6102
DTSTAMP:20260423T042435Z
SUMMARY:BT Youth Ed Program
DESCRIPTION:Jewish Federation of Greater Naples\nCommunity Calendar\nhttps:
 //jewishnaples.org/calendar/calendar871\n\n&nbsp
DTSTART;TZID=America/New_York:20141015T163000
DTEND;TZID=America/New_York:20141015T163000
END:VEVENT
END:VCALENDAR
