BEGIN:VCALENDAR
PRODID:-//eluceo/ical//2.0/EN
VERSION:2.0
CALSCALE:GREGORIAN
BEGIN:VEVENT
UID:7b1a73dc3dc8fcc930ced3d33f1b95f4
DTSTAMP:20260422T041912Z
SUMMARY:BT Youth Ed Program
DESCRIPTION:Jewish Federation of Greater Naples\nCommunity Calendar\nhttps:
 //jewishnaples.org/calendar/calendar865\n\n&nbsp
DTSTART;TZID=America/New_York:20140827T163000
DTEND;TZID=America/New_York:20140827T163000
END:VEVENT
END:VCALENDAR
