BEGIN:VCALENDAR
PRODID:-//eluceo/ical//2.0/EN
VERSION:2.0
CALSCALE:GREGORIAN
BEGIN:VEVENT
UID:93ebaa5bb85cfd0b1acdd20c8b349ae4
DTSTAMP:20260421T233155Z
SUMMARY:NJC Services
DESCRIPTION:Jewish Federation of Greater Naples\nCommunity Calendar\nhttps:
 //jewishnaples.org/calendar/calendar857\n\nUnitarian Universalist Congrega
 tion\n6340 Napa Woods Way
DTSTART;TZID=America/New_York:20150306T193000
DTEND;TZID=America/New_York:20150306T193000
END:VEVENT
END:VCALENDAR
