BEGIN:VCALENDAR
PRODID:-//eluceo/ical//2.0/EN
VERSION:2.0
CALSCALE:GREGORIAN
BEGIN:VEVENT
UID:962826d244c4881d7baec9d3f9cdcd40
DTSTAMP:20260423T012508Z
SUMMARY:MCA Luncheon
DESCRIPTION:Jewish Federation of Greater Naples\nCommunity Calendar\nhttps:
 //jewishnaples.org/calendar/calendar85\n\nWelcome Back Luncheon\nVasari
DTSTART;TZID=America/New_York:20141111T113000
DTEND;TZID=America/New_York:20141111T113000
END:VEVENT
END:VCALENDAR
