BEGIN:VCALENDAR
PRODID:-//eluceo/ical//2.0/EN
VERSION:2.0
CALSCALE:GREGORIAN
BEGIN:VEVENT
UID:81365a8337531e2269b2a01db61c8a31
DTSTAMP:20260424T043012Z
SUMMARY:NJC Services
DESCRIPTION:Jewish Federation of Greater Naples\nCommunity Calendar\nhttps:
 //jewishnaples.org/calendar/calendar846\n\nUnitarian Universalist Congrega
 tion\n6340 Napa Woods Way
DTSTART;TZID=America/New_York:20141219T193000
DTEND;TZID=America/New_York:20141219T193000
END:VEVENT
END:VCALENDAR
