BEGIN:VCALENDAR
PRODID:-//eluceo/ical//2.0/EN
VERSION:2.0
CALSCALE:GREGORIAN
BEGIN:VEVENT
UID:4a268e2130b0d2d8cb4072c9fce279cd
DTSTAMP:20260423T162026Z
SUMMARY:TS Pre-School
DESCRIPTION:Jewish Federation of Greater Naples\nCommunity Calendar\nhttps:
 //jewishnaples.org/calendar/calendar831\n\nFirst Day
DTSTART;TZID=America/New_York:20140819T080000
DTEND;TZID=America/New_York:20140819T080000
END:VEVENT
END:VCALENDAR
