BEGIN:VCALENDAR
PRODID:-//eluceo/ical//2.0/EN
VERSION:2.0
CALSCALE:GREGORIAN
BEGIN:VEVENT
UID:2811b6159cb19b4c0708eeae00340d3c
DTSTAMP:20260422T152021Z
SUMMARY:TS Pre-School
DESCRIPTION:Jewish Federation of Greater Naples\nCommunity Calendar\nhttps:
 //jewishnaples.org/calendar/calendar830\n\nFirst Day
DTSTART;TZID=America/New_York:20140820T090000
DTEND;TZID=America/New_York:20140820T090000
END:VEVENT
END:VCALENDAR
