BEGIN:VCALENDAR
PRODID:-//eluceo/ical//2.0/EN
VERSION:2.0
CALSCALE:GREGORIAN
BEGIN:VEVENT
UID:714382fde8c074806ef2f5f7a146b8a6
DTSTAMP:20260424T064138Z
SUMMARY:JFCC Exec Cmte
DESCRIPTION:Jewish Federation of Greater Naples\nCommunity Calendar\nhttps:
 //jewishnaples.org/calendar/calendar825\n\n&nbsp
DTSTART;TZID=America/New_York:20150203T160000
DTEND;TZID=America/New_York:20150203T160000
END:VEVENT
END:VCALENDAR
