BEGIN:VCALENDAR
PRODID:-//eluceo/ical//2.0/EN
VERSION:2.0
CALSCALE:GREGORIAN
BEGIN:VEVENT
UID:964542a08ebe9f42cf1e4637563e9597
DTSTAMP:20260423T085811Z
SUMMARY:JFCC Exec Cmte
DESCRIPTION:Jewish Federation of Greater Naples\nCommunity Calendar\nhttps:
 //jewishnaples.org/calendar/calendar821\n\n&nbsp
DTSTART;TZID=America/New_York:20141007T160000
DTEND;TZID=America/New_York:20141007T160000
END:VEVENT
END:VCALENDAR
