BEGIN:VCALENDAR
PRODID:-//eluceo/ical//2.0/EN
VERSION:2.0
CALSCALE:GREGORIAN
BEGIN:VEVENT
UID:8354e9f07c6f23b36bedac0ebad30370
DTSTAMP:20260423T205231Z
SUMMARY:Super Bowl 2015
DESCRIPTION:Jewish Federation of Greater Naples\nCommunity Calendar\nhttps:
 //jewishnaples.org/calendar/calendar815\n\n&nbsp
DTSTART;TZID=America/New_York:20150201T000000
DTEND;TZID=America/New_York:20150202T000000
END:VEVENT
END:VCALENDAR
