BEGIN:VCALENDAR
PRODID:-//eluceo/ical//2.0/EN
VERSION:2.0
CALSCALE:GREGORIAN
BEGIN:VEVENT
UID:810c241978afc413bb1ce645da2064fd
DTSTAMP:20260422T112614Z
SUMMARY:Kristallnacht Annual Convocation
DESCRIPTION:Jewish Federation of Greater Naples\nCommunity Calendar\nhttps:
 //jewishnaples.org/calendar/calendar810\n\n&nbsp
DTSTART;TZID=America/New_York:20141109T140000
DTEND;TZID=America/New_York:20141109T140000
END:VEVENT
END:VCALENDAR
