BEGIN:VCALENDAR
PRODID:-//eluceo/ical//2.0/EN
VERSION:2.0
CALSCALE:GREGORIAN
BEGIN:VEVENT
UID:e6d89d78874c269946ae31d1b46be27e
DTSTAMP:20260423T141104Z
SUMMARY:BT Scholar-in-Residence
DESCRIPTION:Jewish Federation of Greater Naples\nCommunity Calendar\nhttps:
 //jewishnaples.org/calendar/calendar81\n\nAfter Minyan
DTSTART;TZID=America/New_York:20150215T110000
DTEND;TZID=America/New_York:20150215T110000
END:VEVENT
END:VCALENDAR
