BEGIN:VCALENDAR
PRODID:-//eluceo/ical//2.0/EN
VERSION:2.0
CALSCALE:GREGORIAN
BEGIN:VEVENT
UID:9404dd707e0c5ed325163b1f0f47e154
DTSTAMP:20260423T175159Z
SUMMARY:SUKKOT
DESCRIPTION:Jewish Federation of Greater Naples\nCommunity Calendar\nhttps:
 //jewishnaples.org/calendar/calendar808\n\n&nbsp
DTSTART;TZID=America/New_York:20141009T000000
DTEND;TZID=America/New_York:20141011T000000
END:VEVENT
END:VCALENDAR
