BEGIN:VCALENDAR
PRODID:-//eluceo/ical//2.0/EN
VERSION:2.0
CALSCALE:GREGORIAN
BEGIN:VEVENT
UID:8aa1a7e762a58840d8bec992b8d290c3
DTSTAMP:20260424T052256Z
SUMMARY:Purim
DESCRIPTION:Jewish Federation of Greater Naples\nCommunity Calendar\nhttps:
 //jewishnaples.org/calendar/calendar801\n\n&nbsp
DTSTART;TZID=America/New_York:20150305T000000
DTEND;TZID=America/New_York:20150306T000000
END:VEVENT
END:VCALENDAR
