BEGIN:VCALENDAR
PRODID:-//eluceo/ical//2.0/EN
VERSION:2.0
CALSCALE:GREGORIAN
BEGIN:VEVENT
UID:9c6620afd7ebeb28d84f42e89ba12671
DTSTAMP:20260423T235045Z
SUMMARY:BT Adult Ed
DESCRIPTION:Jewish Federation of Greater Naples\nCommunity Calendar\nhttps:
 //jewishnaples.org/calendar/calendar798\n\nThe Observant Life
DTSTART;TZID=America/New_York:20150401T200000
DTEND;TZID=America/New_York:20150401T200000
END:VEVENT
END:VCALENDAR
