BEGIN:VCALENDAR
PRODID:-//eluceo/ical//2.0/EN
VERSION:2.0
CALSCALE:GREGORIAN
BEGIN:VEVENT
UID:3e68fc6f1ca08a7f4cedcbbc10155457
DTSTAMP:20260422T222745Z
SUMMARY:BT Adult Ed
DESCRIPTION:Jewish Federation of Greater Naples\nCommunity Calendar\nhttps:
 //jewishnaples.org/calendar/calendar796\n\nThe Observant Life
DTSTART;TZID=America/New_York:20150204T200000
DTEND;TZID=America/New_York:20150204T200000
END:VEVENT
END:VCALENDAR
