BEGIN:VCALENDAR
PRODID:-//eluceo/ical//2.0/EN
VERSION:2.0
CALSCALE:GREGORIAN
BEGIN:VEVENT
UID:3826d765d4e0b2228652256bd9e4b30c
DTSTAMP:20260420T152158Z
SUMMARY:BT Adult Ed
DESCRIPTION:Jewish Federation of Greater Naples\nCommunity Calendar\nhttps:
 //jewishnaples.org/calendar/calendar792\n\nThe Observant Life
DTSTART;TZID=America/New_York:20141001T200000
DTEND;TZID=America/New_York:20141001T200000
END:VEVENT
END:VCALENDAR
