BEGIN:VCALENDAR
PRODID:-//eluceo/ical//2.0/EN
VERSION:2.0
CALSCALE:GREGORIAN
BEGIN:VEVENT
UID:da6dc9972a402861dfc6ad8d38a5c5b0
DTSTAMP:20260424T043021Z
SUMMARY:BT Adult Ed
DESCRIPTION:Jewish Federation of Greater Naples\nCommunity Calendar\nhttps:
 //jewishnaples.org/calendar/calendar790\n\nThe Observant Life
DTSTART;TZID=America/New_York:20140716T200000
DTEND;TZID=America/New_York:20140716T200000
END:VEVENT
END:VCALENDAR
