BEGIN:VCALENDAR
PRODID:-//eluceo/ical//2.0/EN
VERSION:2.0
CALSCALE:GREGORIAN
BEGIN:VEVENT
UID:2f882d90c49ff71006061b6b4e02d44e
DTSTAMP:20260424T020432Z
SUMMARY:BT NJFF
DESCRIPTION:Jewish Federation of Greater Naples\nCommunity Calendar\nhttps:
 //jewishnaples.org/calendar/calendar784\n\nFilm Festival
DTSTART;TZID=America/New_York:20150309T190000
DTEND;TZID=America/New_York:20150309T190000
END:VEVENT
END:VCALENDAR
