BEGIN:VCALENDAR
PRODID:-//eluceo/ical//2.0/EN
VERSION:2.0
CALSCALE:GREGORIAN
BEGIN:VEVENT
UID:440d6ddf7fe4589f89cfe48398f9268b
DTSTAMP:20260422T063025Z
SUMMARY:HDH Annual Fundraiser
DESCRIPTION:Jewish Federation of Greater Naples\nCommunity Calendar\nhttps:
 //jewishnaples.org/calendar/calendar779\n\n&nbsp
DTSTART;TZID=America/New_York:20150308T173000
DTEND;TZID=America/New_York:20150308T173000
END:VEVENT
END:VCALENDAR
