BEGIN:VCALENDAR
PRODID:-//eluceo/ical//2.0/EN
VERSION:2.0
CALSCALE:GREGORIAN
BEGIN:VEVENT
UID:de7c3ee1a9597b8634edf66b16f0c202
DTSTAMP:20260423T043827Z
SUMMARY:JCMI Bingo
DESCRIPTION:Jewish Federation of Greater Naples\nCommunity Calendar\nhttps:
 //jewishnaples.org/calendar/calendar776\n\n&nbsp
DTSTART;TZID=America/New_York:20150413T173000
DTEND;TZID=America/New_York:20150413T173000
END:VEVENT
END:VCALENDAR
