BEGIN:VCALENDAR
PRODID:-//eluceo/ical//2.0/EN
VERSION:2.0
CALSCALE:GREGORIAN
BEGIN:VEVENT
UID:336a4dccd5bdc6ede1d216f90a4a504d
DTSTAMP:20260423T171950Z
SUMMARY:JCMI Bingo
DESCRIPTION:Jewish Federation of Greater Naples\nCommunity Calendar\nhttps:
 //jewishnaples.org/calendar/calendar770\n\n&nbsp
DTSTART;TZID=America/New_York:20150302T173000
DTEND;TZID=America/New_York:20150302T173000
END:VEVENT
END:VCALENDAR
