BEGIN:VCALENDAR
PRODID:-//eluceo/ical//2.0/EN
VERSION:2.0
CALSCALE:GREGORIAN
BEGIN:VEVENT
UID:c524a9ed5ed20708cf42c37c374101da
DTSTAMP:20260423T043703Z
SUMMARY:JCMI Bingo
DESCRIPTION:Jewish Federation of Greater Naples\nCommunity Calendar\nhttps:
 //jewishnaples.org/calendar/calendar767\n\n&nbsp
DTSTART;TZID=America/New_York:20150209T173000
DTEND;TZID=America/New_York:20150209T173000
END:VEVENT
END:VCALENDAR
