BEGIN:VCALENDAR
PRODID:-//eluceo/ical//2.0/EN
VERSION:2.0
CALSCALE:GREGORIAN
BEGIN:VEVENT
UID:dcb0ef4fc77241ce4946dffebdc7bee0
DTSTAMP:20260422T110008Z
SUMMARY:JCMI Bingo
DESCRIPTION:Jewish Federation of Greater Naples\nCommunity Calendar\nhttps:
 //jewishnaples.org/calendar/calendar764\n\n&nbsp
DTSTART;TZID=America/New_York:20150119T173000
DTEND;TZID=America/New_York:20150119T173000
END:VEVENT
END:VCALENDAR
