BEGIN:VCALENDAR
PRODID:-//eluceo/ical//2.0/EN
VERSION:2.0
CALSCALE:GREGORIAN
BEGIN:VEVENT
UID:37804b31a4a01181720d984e1ae5776c
DTSTAMP:20260422T120055Z
SUMMARY:JCMI Bingo
DESCRIPTION:Jewish Federation of Greater Naples\nCommunity Calendar\nhttps:
 //jewishnaples.org/calendar/calendar757\n\n&nbsp
DTSTART;TZID=America/New_York:20141201T173000
DTEND;TZID=America/New_York:20141201T173000
END:VEVENT
END:VCALENDAR
