BEGIN:VCALENDAR
PRODID:-//eluceo/ical//2.0/EN
VERSION:2.0
CALSCALE:GREGORIAN
BEGIN:VEVENT
UID:d9bc6038b195219e5b36725dd9ee670a
DTSTAMP:20260424T042736Z
SUMMARY:JCMI Bingo
DESCRIPTION:Jewish Federation of Greater Naples\nCommunity Calendar\nhttps:
 //jewishnaples.org/calendar/calendar752\n\n&nbsp
DTSTART;TZID=America/New_York:20141027T173000
DTEND;TZID=America/New_York:20141027T173000
END:VEVENT
END:VCALENDAR
