BEGIN:VCALENDAR
PRODID:-//eluceo/ical//2.0/EN
VERSION:2.0
CALSCALE:GREGORIAN
BEGIN:VEVENT
UID:b39baac2544f8afc4a012f8c95311895
DTSTAMP:20260423T053452Z
SUMMARY:JCMI Bingo
DESCRIPTION:Jewish Federation of Greater Naples\nCommunity Calendar\nhttps:
 //jewishnaples.org/calendar/calendar751\n\n&nbsp
DTSTART;TZID=America/New_York:20141020T173000
DTEND;TZID=America/New_York:20141020T173000
END:VEVENT
END:VCALENDAR
