BEGIN:VCALENDAR
PRODID:-//eluceo/ical//2.0/EN
VERSION:2.0
CALSCALE:GREGORIAN
BEGIN:VEVENT
UID:336d4f26d783edbbcf16e72c57ee425b
DTSTAMP:20260423T175220Z
SUMMARY:JCMI Board Mtg
DESCRIPTION:Jewish Federation of Greater Naples\nCommunity Calendar\nhttps:
 //jewishnaples.org/calendar/calendar747\n\n&nbsp
DTSTART;TZID=America/New_York:20150326T190000
DTEND;TZID=America/New_York:20150326T190000
END:VEVENT
END:VCALENDAR
