BEGIN:VCALENDAR
PRODID:-//eluceo/ical//2.0/EN
VERSION:2.0
CALSCALE:GREGORIAN
BEGIN:VEVENT
UID:66573d11efa7843f6da23cd668a5c15c
DTSTAMP:20260424T091335Z
SUMMARY:JCMI Board Mtg
DESCRIPTION:Jewish Federation of Greater Naples\nCommunity Calendar\nhttps:
 //jewishnaples.org/calendar/calendar746\n\n&nbsp
DTSTART;TZID=America/New_York:20150226T190000
DTEND;TZID=America/New_York:20150226T190000
END:VEVENT
END:VCALENDAR
