BEGIN:VCALENDAR
PRODID:-//eluceo/ical//2.0/EN
VERSION:2.0
CALSCALE:GREGORIAN
BEGIN:VEVENT
UID:5c8fc4edd78572f4bf8c30ed24bcd780
DTSTAMP:20260423T074915Z
SUMMARY:JCMI Board Mtg
DESCRIPTION:Jewish Federation of Greater Naples\nCommunity Calendar\nhttps:
 //jewishnaples.org/calendar/calendar745\n\n&nbsp
DTSTART;TZID=America/New_York:20150122T183000
DTEND;TZID=America/New_York:20150122T183000
END:VEVENT
END:VCALENDAR
