BEGIN:VCALENDAR
PRODID:-//eluceo/ical//2.0/EN
VERSION:2.0
CALSCALE:GREGORIAN
BEGIN:VEVENT
UID:68647621878adf0f6dd7c04940674cc9
DTSTAMP:20260422T155040Z
SUMMARY:JCMI Chanukah Celebration
DESCRIPTION:Jewish Federation of Greater Naples\nCommunity Calendar\nhttps:
 //jewishnaples.org/calendar/calendar740\n\n&nbsp
DTSTART;TZID=America/New_York:20141221T170000
DTEND;TZID=America/New_York:20141221T170000
END:VEVENT
END:VCALENDAR
