BEGIN:VCALENDAR
PRODID:-//eluceo/ical//2.0/EN
VERSION:2.0
CALSCALE:GREGORIAN
BEGIN:VEVENT
UID:9ed9d437c612b07c53b3a229c8efe163
DTSTAMP:20260422T174311Z
SUMMARY:JCMI Duplicate Bridge
DESCRIPTION:Jewish Federation of Greater Naples\nCommunity Calendar\nhttps:
 //jewishnaples.org/calendar/calendar730\n\n&nbsp
DTSTART;TZID=America/New_York:20150224T130000
DTEND;TZID=America/New_York:20150224T130000
END:VEVENT
END:VCALENDAR
