BEGIN:VCALENDAR
PRODID:-//eluceo/ical//2.0/EN
VERSION:2.0
CALSCALE:GREGORIAN
BEGIN:VEVENT
UID:b4a2a6e00b5a01e58a929f90ed2a4ccd
DTSTAMP:20260423T012446Z
SUMMARY:BT Adult Ed
DESCRIPTION:Jewish Federation of Greater Naples\nCommunity Calendar\nhttps:
 //jewishnaples.org/calendar/calendar73\n\nThe Observant Life
DTSTART;TZID=America/New_York:20140917T200000
DTEND;TZID=America/New_York:20140917T200000
END:VEVENT
END:VCALENDAR
