BEGIN:VCALENDAR
PRODID:-//eluceo/ical//2.0/EN
VERSION:2.0
CALSCALE:GREGORIAN
BEGIN:VEVENT
UID:36691ad60926af52b39e2ab3397c83d2
DTSTAMP:20260422T222725Z
SUMMARY:BT Minyan
DESCRIPTION:Jewish Federation of Greater Naples\nCommunity Calendar\nhttps:
 //jewishnaples.org/calendar/calendar72\n\n&nbsp
DTSTART;TZID=America/New_York:20150329T090000
DTEND;TZID=America/New_York:20150329T090000
END:VEVENT
END:VCALENDAR
