BEGIN:VCALENDAR
PRODID:-//eluceo/ical//2.0/EN
VERSION:2.0
CALSCALE:GREGORIAN
BEGIN:VEVENT
UID:d946f8bc4e2d630062a9da13da5eacf2
DTSTAMP:20260424T052059Z
SUMMARY:JCMI Rabbi's Adult Study
DESCRIPTION:Jewish Federation of Greater Naples\nCommunity Calendar\nhttps:
 //jewishnaples.org/calendar/calendar717\n\n&nbsp
DTSTART;TZID=America/New_York:20150315T093000
DTEND;TZID=America/New_York:20150315T093000
END:VEVENT
END:VCALENDAR
