BEGIN:VCALENDAR
PRODID:-//eluceo/ical//2.0/EN
VERSION:2.0
CALSCALE:GREGORIAN
BEGIN:VEVENT
UID:6847c81eee6295227da2618b9b32b8aa
DTSTAMP:20260423T003805Z
SUMMARY:JCMI Rabbi's Adult Study
DESCRIPTION:Jewish Federation of Greater Naples\nCommunity Calendar\nhttps:
 //jewishnaples.org/calendar/calendar713\n\n&nbsp
DTSTART;TZID=America/New_York:20150215T093000
DTEND;TZID=America/New_York:20150215T093000
END:VEVENT
END:VCALENDAR
