BEGIN:VCALENDAR
PRODID:-//eluceo/ical//2.0/EN
VERSION:2.0
CALSCALE:GREGORIAN
BEGIN:VEVENT
UID:e02c7392946da4d8f2e03829faea14e2
DTSTAMP:20260423T012226Z
SUMMARY:JCMI Sisterhood Lunch Mtg
DESCRIPTION:Jewish Federation of Greater Naples\nCommunity Calendar\nhttps:
 //jewishnaples.org/calendar/calendar707\n\n&nbsp
DTSTART;TZID=America/New_York:20150414T120000
DTEND;TZID=America/New_York:20150414T120000
END:VEVENT
END:VCALENDAR
