BEGIN:VCALENDAR
PRODID:-//eluceo/ical//2.0/EN
VERSION:2.0
CALSCALE:GREGORIAN
BEGIN:VEVENT
UID:2b0c47c40492e3d103d62a3e17c6af11
DTSTAMP:20260423T141124Z
SUMMARY:JCMI Sisterhood Lunch Mtg
DESCRIPTION:Jewish Federation of Greater Naples\nCommunity Calendar\nhttps:
 //jewishnaples.org/calendar/calendar704\n\n&nbsp
DTSTART;TZID=America/New_York:20150113T120000
DTEND;TZID=America/New_York:20150113T120000
END:VEVENT
END:VCALENDAR
