BEGIN:VCALENDAR
PRODID:-//eluceo/ical//2.0/EN
VERSION:2.0
CALSCALE:GREGORIAN
BEGIN:VEVENT
UID:c2c07cf4b0521242cc84e865d7d1f69d
DTSTAMP:20260423T073635Z
SUMMARY:JCMI Sisterhood Lunch Mtg
DESCRIPTION:Jewish Federation of Greater Naples\nCommunity Calendar\nhttps:
 //jewishnaples.org/calendar/calendar700\n\n&nbsp
DTSTART;TZID=America/New_York:20140909T120000
DTEND;TZID=America/New_York:20140909T120000
END:VEVENT
END:VCALENDAR
