BEGIN:VCALENDAR
PRODID:-//eluceo/ical//2.0/EN
VERSION:2.0
CALSCALE:GREGORIAN
BEGIN:VEVENT
UID:1f1efbf6eb656634c525593f4f20f3cf
DTSTAMP:20260420T202022Z
SUMMARY:BT Minyan
DESCRIPTION:Jewish Federation of Greater Naples\nCommunity Calendar\nhttps:
 //jewishnaples.org/calendar/calendar70\n\n&nbsp
DTSTART;TZID=America/New_York:20150315T090000
DTEND;TZID=America/New_York:20150315T090000
END:VEVENT
END:VCALENDAR
