BEGIN:VCALENDAR
PRODID:-//eluceo/ical//2.0/EN
VERSION:2.0
CALSCALE:GREGORIAN
BEGIN:VEVENT
UID:53816d6a64cdae366b27e4a235b14f94
DTSTAMP:20260423T025510Z
SUMMARY:JCMI Sisterhood Lunch Mtg
DESCRIPTION:Jewish Federation of Greater Naples\nCommunity Calendar\nhttps:
 //jewishnaples.org/calendar/calendar699\n\n&nbsp
DTSTART;TZID=America/New_York:20140812T120000
DTEND;TZID=America/New_York:20140812T120000
END:VEVENT
END:VCALENDAR
